Package: rGADEM Version: 2.54.0 Command: /Library/Frameworks/R.framework/Resources/bin/R CMD INSTALL rGADEM StartedAt: 2025-02-17 16:04:50 -0500 (Mon, 17 Feb 2025) EndedAt: 2025-02-17 16:05:43 -0500 (Mon, 17 Feb 2025) EllapsedTime: 53.5 seconds RetCode: 0 Status: OK