############################################################################## ############################################################################## ### ### Running command: ### ### rm -rf rGADEM.buildbin-libdir && mkdir rGADEM.buildbin-libdir && /Users/biocbuild/BBS/utils/build-universal.sh rGADEM_2.54.0.tar.gz /Library/Frameworks/R.framework/Resources/bin/R rGADEM.buildbin-libdir ### ############################################################################## ############################################################################## >>>>>>> >>>>>>> INSTALLATION WITH 'R CMD INSTALL --preclean --no-multiarch --library=rGADEM.buildbin-libdir rGADEM_2.54.0.tar.gz' >>>>>>> * installing *source* package ‘rGADEM’ ... ** using staged installation checking for gcc... clang -arch x86_64 checking whether the C compiler works... yes checking for C compiler default output file name... a.out checking for suffix of executables... checking whether we are cross compiling... no checking for suffix of object files... o checking whether we are using the GNU C compiler... yes checking whether clang -arch x86_64 accepts -g... yes checking for clang -arch x86_64 option to accept ISO C89... none needed checking how to run the C preprocessor... clang -arch x86_64 -E checking for clang -arch x86_64 option to support OpenMP... unsupported checking for grep that handles long lines and -e... /usr/bin/grep checking for egrep... /usr/bin/grep -E checking for ANSI C header files... yes checking for sys/types.h... yes checking for sys/stat.h... yes checking for stdlib.h... yes checking for string.h... yes checking for memory.h... yes checking for strings.h... yes checking for inttypes.h... yes checking for stdint.h... yes checking for unistd.h... yes checking dispatch/dispatch.h usability... yes checking dispatch/dispatch.h presence... yes checking for dispatch/dispatch.h... yes ./configure: line 3409: cannot create temp file for here document: No space left on device configure: creating ./config.status ./configure: line 3595: cannot create temp file for here document: No space left on device configure: error: write failure creating ./config.status ERROR: configuration failed for package ‘rGADEM’ * removing ‘/Users/biocbuild/bbs-3.20-bioc/meat/rGADEM.buildbin-libdir/rGADEM’