Package: rGADEM Version: 2.54.0 Command: rm -rf rGADEM.buildbin-libdir && mkdir rGADEM.buildbin-libdir && /Users/biocbuild/BBS/utils/build-universal.sh rGADEM_2.54.0.tar.gz /Library/Frameworks/R.framework/Resources/bin/R rGADEM.buildbin-libdir StartedAt: 2025-02-04 13:59:28 -0500 (Tue, 04 Feb 2025) EndedAt: 2025-02-04 13:59:46 -0500 (Tue, 04 Feb 2025) EllapsedTime: 18.7 seconds RetCode: 1 Status: ERROR PackageFile: None PackageFileSize: NA