Package: rGADEM Version: 2.54.0 Command: /Library/Frameworks/R.framework/Resources/bin/R CMD check --install=check:rGADEM.install-out.txt --library=/Library/Frameworks/R.framework/Resources/library --no-vignettes --timings rGADEM_2.54.0.tar.gz StartedAt: 2025-02-04 08:53:46 -0500 (Tue, 04 Feb 2025) EndedAt: 2025-02-04 09:01:37 -0500 (Tue, 04 Feb 2025) EllapsedTime: 470.7 seconds RetCode: 0 Status: WARNINGS CheckDir: rGADEM.Rcheck Warnings: 1