Package: rGADEM Version: 2.54.0 Command: /Library/Frameworks/R.framework/Resources/bin/R CMD INSTALL rGADEM StartedAt: 2025-02-03 15:44:28 -0500 (Mon, 03 Feb 2025) EndedAt: 2025-02-03 15:46:00 -0500 (Mon, 03 Feb 2025) EllapsedTime: 92.0 seconds RetCode: 0 Status: OK