Package: rGADEM Version: 2.54.0 Command: /home/biocbuild/bbs-3.20-bioc/R/bin/R CMD build --keep-empty-dirs --no-resave-data --md5 rGADEM StartedAt: 2025-02-03 18:58:29 -0500 (Mon, 03 Feb 2025) EndedAt: 2025-02-03 18:59:54 -0500 (Mon, 03 Feb 2025) EllapsedTime: 85.1 seconds RetCode: 0 Status: OK PackageFile: rGADEM_2.54.0.tar.gz PackageFileSize: 378.8 KiB