Package: rGADEM
Version: 2.53.0
Command: C:\Users\biocbuild\bbs-3.20-bioc\R\bin\R.exe CMD INSTALL rGADEM
StartedAt: 2024-07-15 15:38:51 -0400 (Mon, 15 Jul 2024)
EndedAt: 2024-07-15 15:39:45 -0400 (Mon, 15 Jul 2024)
EllapsedTime: 54.1 seconds
RetCode: 0
Status: OK