Package: rGADEM Version: 2.54.0 Command: rm -rf rGADEM.buildbin-libdir && mkdir rGADEM.buildbin-libdir && F:\biocbuild\bbs-3.20-bioc\R\bin\R.exe CMD INSTALL --build --library=rGADEM.buildbin-libdir rGADEM_2.54.0.tar.gz StartedAt: 2025-02-04 09:19:58 -0500 (Tue, 04 Feb 2025) EndedAt: 2025-02-04 09:21:17 -0500 (Tue, 04 Feb 2025) EllapsedTime: 79.4 seconds RetCode: 0 Status: OK PackageFile: rGADEM_2.54.0.zip PackageFileSize: 525.4 KiB