Package: rGADEM Version: 2.54.0 Command: F:\biocbuild\bbs-3.20-bioc\R\bin\R.exe CMD INSTALL rGADEM StartedAt: 2025-02-03 16:48:20 -0500 (Mon, 03 Feb 2025) EndedAt: 2025-02-03 16:49:24 -0500 (Mon, 03 Feb 2025) EllapsedTime: 64.4 seconds RetCode: 0 Status: OK