Package: rGADEM Version: 2.54.0 Command: /home/biocbuild/R/R/bin/R CMD build --keep-empty-dirs --no-resave-data rGADEM StartedAt: 2025-02-04 02:14:14 -0000 (Tue, 04 Feb 2025) EndedAt: 2025-02-04 02:14:21 -0000 (Tue, 04 Feb 2025) EllapsedTime: 7.0 seconds RetCode: 1 Status: ERROR PackageFile: None PackageFileSize: NA