Package: rGADEM Version: 2.54.0 Command: /home/biocbuild/R/R/bin/R CMD INSTALL rGADEM StartedAt: 2025-02-03 20:41:41 -0000 (Mon, 03 Feb 2025) EndedAt: 2025-02-03 20:41:47 -0000 (Mon, 03 Feb 2025) EllapsedTime: 6.4 seconds RetCode: 1 Status: ERROR