Package: rGADEM Version: 2.54.0 Command: /home/biocbuild/bbs-3.20-bioc/R/bin/R CMD build --keep-empty-dirs --no-resave-data rGADEM StartedAt: 2024-11-19 21:13:08 -0500 (Tue, 19 Nov 2024) EndedAt: 2024-11-19 21:14:35 -0500 (Tue, 19 Nov 2024) EllapsedTime: 86.9 seconds RetCode: 0 Status: OK PackageFile: rGADEM_2.54.0.tar.gz PackageFileSize: 377.2 KiB