Package: rGREAT Version: 2.8.0 Command: rm -rf rGREAT.buildbin-libdir && mkdir rGREAT.buildbin-libdir && /Users/biocbuild/BBS/utils/build-universal.sh rGREAT_2.8.0.tar.gz /Library/Frameworks/R.framework/Resources/bin/R rGREAT.buildbin-libdir StartedAt: 2025-02-01 16:28:20 -0500 (Sat, 01 Feb 2025) EndedAt: 2025-02-01 16:29:16 -0500 (Sat, 01 Feb 2025) EllapsedTime: 56.0 seconds RetCode: 0 Status: OK PackageFile: rGREAT_2.8.0.tgz PackageFileSize: 3.431 MiB