Package: rGREAT Version: 2.8.0 Command: /Library/Frameworks/R.framework/Resources/bin/R CMD INSTALL rGREAT StartedAt: 2025-01-30 16:41:04 -0500 (Thu, 30 Jan 2025) EndedAt: 2025-01-30 16:41:58 -0500 (Thu, 30 Jan 2025) EllapsedTime: 53.6 seconds RetCode: 0 Status: OK