Package: rGREAT
Version: 2.8.0
Command: /home/biocbuild/R/R/bin/R CMD check --install=check:rGREAT.install-out.txt --library=/home/biocbuild/R/R/site-library --no-vignettes --timings rGREAT_2.8.0.tar.gz
StartedAt: 2024-11-20 11:38:18 -0000 (Wed, 20 Nov 2024)
EndedAt: 2024-11-20 11:44:44 -0000 (Wed, 20 Nov 2024)
EllapsedTime: 386.7 seconds
RetCode: 0
Status: WARNINGS
CheckDir: rGREAT.Rcheck
Warnings: 1