Package: rGREAT Version: 2.8.0 Command: /Library/Frameworks/R.framework/Resources/bin/R CMD build --keep-empty-dirs --no-resave-data rGREAT StartedAt: 2025-01-30 22:14:51 -0500 (Thu, 30 Jan 2025) EndedAt: 2025-01-30 22:16:34 -0500 (Thu, 30 Jan 2025) EllapsedTime: 103.6 seconds RetCode: 0 Status: OK PackageFile: rGREAT_2.8.0.tar.gz PackageFileSize: 2.755 MiB