Package: rGREAT Version: 2.8.0 Command: /Library/Frameworks/R.framework/Resources/bin/R CMD INSTALL rGREAT StartedAt: 2025-01-30 15:57:52 -0500 (Thu, 30 Jan 2025) EndedAt: 2025-01-30 15:59:33 -0500 (Thu, 30 Jan 2025) EllapsedTime: 100.3 seconds RetCode: 0 Status: OK