Package: rGREAT Version: 2.8.0 Command: F:\biocbuild\bbs-3.20-bioc\R\bin\R.exe CMD check --no-multiarch --install=check:rGREAT.install-out.txt --library=F:\biocbuild\bbs-3.20-bioc\R\library --no-vignettes --timings rGREAT_2.8.0.tar.gz StartedAt: 2025-02-04 05:30:55 -0500 (Tue, 04 Feb 2025) EndedAt: 2025-02-04 05:37:18 -0500 (Tue, 04 Feb 2025) EllapsedTime: 383.5 seconds RetCode: 0 Status: OK CheckDir: rGREAT.Rcheck Warnings: 0