Package: rGREAT Version: 2.8.0 Command: F:\biocbuild\bbs-3.20-bioc\R\bin\R.exe CMD INSTALL rGREAT StartedAt: 2025-02-03 16:52:53 -0500 (Mon, 03 Feb 2025) EndedAt: 2025-02-03 16:54:57 -0500 (Mon, 03 Feb 2025) EllapsedTime: 123.8 seconds RetCode: 0 Status: OK