############################################################################## ############################################################################## ### ### Running command: ### ### rm -rf rGenomeTracks.buildbin-libdir && mkdir rGenomeTracks.buildbin-libdir && /Users/biocbuild/BBS/utils/build-universal.sh rGenomeTracks_1.12.0.tar.gz /Library/Frameworks/R.framework/Resources/bin/R rGenomeTracks.buildbin-libdir ### ############################################################################## ############################################################################## >>>>>>> >>>>>>> INSTALLATION WITH 'R CMD INSTALL --preclean --no-multiarch --library=rGenomeTracks.buildbin-libdir rGenomeTracks_1.12.0.tar.gz' >>>>>>> * installing *source* package ‘rGenomeTracks’ ... ** using staged installation ** R ** inst ** byte-compile and prepare package for lazy loading ** help *** installing help indices ** building package indices ** installing vignettes ** testing if installed package can be loaded from temporary location mv: rename /Users/biocbuild/bbs-3.20-bioc/meat/rGenomeTracks.buildbin-libdir/00LOCK-rGenomeTracks/00new/rGenomeTracks to /Users/biocbuild/bbs-3.20-bioc/meat/rGenomeTracks.buildbin-libdir/rGenomeTracks: No space left on device ERROR: moving to final location failed