Package: rGenomeTracks Version: 1.12.0 Command: rm -rf rGenomeTracks.buildbin-libdir && mkdir rGenomeTracks.buildbin-libdir && /Users/biocbuild/BBS/utils/build-universal.sh rGenomeTracks_1.12.0.tar.gz /Library/Frameworks/R.framework/Resources/bin/R rGenomeTracks.buildbin-libdir StartedAt: 2025-02-04 13:59:28 -0500 (Tue, 04 Feb 2025) EndedAt: 2025-02-04 13:59:48 -0500 (Tue, 04 Feb 2025) EllapsedTime: 19.7 seconds RetCode: 1 Status: ERROR PackageFile: None PackageFileSize: NA