Package: rGenomeTracks Version: 1.12.0 Command: /Library/Frameworks/R.framework/Resources/bin/R CMD check --install=check:rGenomeTracks.install-out.txt --library=/Library/Frameworks/R.framework/Resources/library --no-vignettes --timings rGenomeTracks_1.12.0.tar.gz StartedAt: 2025-02-04 08:53:58 -0500 (Tue, 04 Feb 2025) EndedAt: 2025-02-04 08:55:45 -0500 (Tue, 04 Feb 2025) EllapsedTime: 107.1 seconds RetCode: 0 Status: OK CheckDir: rGenomeTracks.Rcheck Warnings: 0