Package: rGenomeTracks Version: 1.12.0 Command: /Library/Frameworks/R.framework/Resources/bin/R CMD INSTALL rGenomeTracks StartedAt: 2025-02-03 15:52:50 -0500 (Mon, 03 Feb 2025) EndedAt: 2025-02-03 15:53:10 -0500 (Mon, 03 Feb 2025) EllapsedTime: 19.9 seconds RetCode: 0 Status: OK