Package: rGenomeTracks Version: 1.12.0 Command: rm -rf rGenomeTracks.buildbin-libdir && mkdir rGenomeTracks.buildbin-libdir && F:\biocbuild\bbs-3.20-bioc\R\bin\R.exe CMD INSTALL --build --library=rGenomeTracks.buildbin-libdir rGenomeTracks_1.12.0.tar.gz StartedAt: 2025-02-04 09:19:59 -0500 (Tue, 04 Feb 2025) EndedAt: 2025-02-04 09:20:39 -0500 (Tue, 04 Feb 2025) EllapsedTime: 40.2 seconds RetCode: 0 Status: OK PackageFile: rGenomeTracks_1.12.0.zip PackageFileSize: 3.404 MiB