Package: rGenomeTracks Version: 1.12.0 Command: F:\biocbuild\bbs-3.20-bioc\R\bin\R.exe CMD INSTALL rGenomeTracks StartedAt: 2025-02-03 16:03:52 -0500 (Mon, 03 Feb 2025) EndedAt: 2025-02-03 16:04:37 -0500 (Mon, 03 Feb 2025) EllapsedTime: 45.4 seconds RetCode: 0 Status: OK