Package: rGenomeTracks Version: 1.12.0 Command: /home/biocbuild/R/R/bin/R CMD build --keep-empty-dirs --no-resave-data rGenomeTracks StartedAt: 2025-02-04 02:14:16 -0000 (Tue, 04 Feb 2025) EndedAt: 2025-02-04 02:14:30 -0000 (Tue, 04 Feb 2025) EllapsedTime: 14.0 seconds RetCode: 0 Status: OK PackageFile: rGenomeTracks_1.12.0.tar.gz PackageFileSize: 3.327 MiB