Package: rGenomeTracks Version: 1.12.0 Command: /home/biocbuild/R/R/bin/R CMD check --install=check:rGenomeTracks.install-out.txt --library=/home/biocbuild/R/R/site-library --no-vignettes --timings rGenomeTracks_1.12.0.tar.gz StartedAt: 2025-02-04 10:22:47 -0000 (Tue, 04 Feb 2025) EndedAt: 2025-02-04 10:23:41 -0000 (Tue, 04 Feb 2025) EllapsedTime: 54.1 seconds RetCode: 0 Status: OK CheckDir: rGenomeTracks.Rcheck Warnings: 0