Package: rGenomeTracks Version: 1.12.0 Command: /home/biocbuild/R/R/bin/R CMD INSTALL rGenomeTracks StartedAt: 2025-02-03 20:48:46 -0000 (Mon, 03 Feb 2025) EndedAt: 2025-02-03 20:48:53 -0000 (Mon, 03 Feb 2025) EllapsedTime: 7.9 seconds RetCode: 0 Status: OK