Package: rScudo Version: 1.22.0 Command: rm -rf rScudo.buildbin-libdir && mkdir rScudo.buildbin-libdir && /Users/biocbuild/BBS/utils/build-universal.sh rScudo_1.22.0.tar.gz /Library/Frameworks/R.framework/Resources/bin/R rScudo.buildbin-libdir StartedAt: 2025-02-05 17:33:44 -0500 (Wed, 05 Feb 2025) EndedAt: 2025-02-05 17:33:48 -0500 (Wed, 05 Feb 2025) EllapsedTime: 4.6 seconds RetCode: 0 Status: OK PackageFile: rScudo_1.22.0.tgz PackageFileSize: 1.033 MiB