Package: rScudo Version: 1.22.0 Command: /Library/Frameworks/R.framework/Resources/bin/R CMD build --keep-empty-dirs --no-resave-data rScudo StartedAt: 2025-01-30 22:24:47 -0500 (Thu, 30 Jan 2025) EndedAt: 2025-01-30 22:28:39 -0500 (Thu, 30 Jan 2025) EllapsedTime: 232.1 seconds RetCode: 0 Status: OK PackageFile: rScudo_1.22.0.tar.gz PackageFileSize: 845 KiB