Package: rScudo Version: 1.22.0 Command: /Library/Frameworks/R.framework/Resources/bin/R CMD check --install=check:rScudo.install-out.txt --library=/Library/Frameworks/R.framework/Resources/library --no-vignettes --timings rScudo_1.22.0.tar.gz StartedAt: 2025-01-31 09:17:26 -0500 (Fri, 31 Jan 2025) EndedAt: 2025-01-31 09:18:50 -0500 (Fri, 31 Jan 2025) EllapsedTime: 84.2 seconds RetCode: 0 Status: OK CheckDir: rScudo.Rcheck Warnings: 0