Package: rScudo Version: 1.22.0 Command: rm -rf rScudo.buildbin-libdir && mkdir rScudo.buildbin-libdir && F:\biocbuild\bbs-3.20-bioc\R\bin\R.exe CMD INSTALL --build --library=rScudo.buildbin-libdir rScudo_1.22.0.tar.gz StartedAt: 2025-02-04 09:23:42 -0500 (Tue, 04 Feb 2025) EndedAt: 2025-02-04 09:24:12 -0500 (Tue, 04 Feb 2025) EllapsedTime: 29.8 seconds RetCode: 0 Status: OK PackageFile: rScudo_1.22.0.zip PackageFileSize: 585.4 KiB