Package: rTRM Version: 1.44.0 Command: rm -rf rTRM.buildbin-libdir && mkdir rTRM.buildbin-libdir && /Users/biocbuild/BBS/utils/build-universal.sh rTRM_1.44.0.tar.gz /Library/Frameworks/R.framework/Resources/bin/R rTRM.buildbin-libdir StartedAt: 2025-02-01 16:40:03 -0500 (Sat, 01 Feb 2025) EndedAt: 2025-02-01 16:40:23 -0500 (Sat, 01 Feb 2025) EllapsedTime: 20.6 seconds RetCode: 0 Status: OK PackageFile: rTRM_1.44.0.tgz PackageFileSize: 3.505 MiB