Package: rTRM Version: 1.44.0 Command: /Library/Frameworks/R.framework/Resources/bin/R CMD build --keep-empty-dirs --no-resave-data rTRM StartedAt: 2025-01-31 06:56:20 -0500 (Fri, 31 Jan 2025) EndedAt: 2025-01-31 06:57:19 -0500 (Fri, 31 Jan 2025) EllapsedTime: 59.0 seconds RetCode: 0 Status: OK PackageFile: rTRM_1.44.0.tar.gz PackageFileSize: 3.55 MiB