Package: rTRM Version: 1.44.0 Command: /Library/Frameworks/R.framework/Resources/bin/R CMD check --install=check:rTRM.install-out.txt --library=/Library/Frameworks/R.framework/Resources/library --no-vignettes --timings rTRM_1.44.0.tar.gz StartedAt: 2025-02-01 07:39:10 -0500 (Sat, 01 Feb 2025) EndedAt: 2025-02-01 07:41:10 -0500 (Sat, 01 Feb 2025) EllapsedTime: 120.0 seconds RetCode: 0 Status: OK CheckDir: rTRM.Rcheck Warnings: 0