Package: rTRM Version: 1.44.0 Command: /Library/Frameworks/R.framework/Resources/bin/R CMD check --install=check:rTRM.install-out.txt --library=/Library/Frameworks/R.framework/Resources/library --no-vignettes --timings rTRM_1.44.0.tar.gz StartedAt: 2025-01-31 09:20:57 -0500 (Fri, 31 Jan 2025) EndedAt: 2025-01-31 09:24:54 -0500 (Fri, 31 Jan 2025) EllapsedTime: 236.7 seconds RetCode: 0 Status: OK CheckDir: rTRM.Rcheck Warnings: 0