Package: rTRM Version: 1.44.0 Command: /Library/Frameworks/R.framework/Resources/bin/R CMD INSTALL rTRM StartedAt: 2025-01-30 15:30:35 -0500 (Thu, 30 Jan 2025) EndedAt: 2025-01-30 15:31:11 -0500 (Thu, 30 Jan 2025) EllapsedTime: 36.3 seconds RetCode: 0 Status: OK