Package: rTRM Version: 1.44.0 Command: /home/biocbuild/bbs-3.20-bioc/R/bin/R CMD INSTALL rTRM StartedAt: 2025-01-30 15:17:24 -0500 (Thu, 30 Jan 2025) EndedAt: 2025-01-30 15:17:41 -0500 (Thu, 30 Jan 2025) EllapsedTime: 16.5 seconds RetCode: 0 Status: OK