Package: rTRM Version: 1.44.0 Command: rm -rf rTRM.buildbin-libdir && mkdir rTRM.buildbin-libdir && F:\biocbuild\bbs-3.20-bioc\R\bin\R.exe CMD INSTALL --build --library=rTRM.buildbin-libdir rTRM_1.44.0.tar.gz StartedAt: 2025-01-31 09:30:29 -0500 (Fri, 31 Jan 2025) EndedAt: 2025-01-31 09:30:56 -0500 (Fri, 31 Jan 2025) EllapsedTime: 27.2 seconds RetCode: 0 Status: OK PackageFile: rTRM_1.44.0.zip PackageFileSize: 3.122 MiB