Package: rTRM Version: 1.44.0 Command: chmod a+r rTRM -R && F:\biocbuild\bbs-3.20-bioc\R\bin\R.exe CMD build --keep-empty-dirs --no-resave-data rTRM StartedAt: 2025-02-03 21:49:17 -0500 (Mon, 03 Feb 2025) EndedAt: 2025-02-03 21:50:46 -0500 (Mon, 03 Feb 2025) EllapsedTime: 88.8 seconds RetCode: 0 Status: OK PackageFile: rTRM_1.44.0.tar.gz PackageFileSize: 3.17 MiB