Package: rTRM Version: 1.44.0 Command: /home/biocbuild/R/R/bin/R CMD build --keep-empty-dirs --no-resave-data rTRM StartedAt: 2025-01-31 02:20:47 -0000 (Fri, 31 Jan 2025) EndedAt: 2025-01-31 02:21:21 -0000 (Fri, 31 Jan 2025) EllapsedTime: 34.0 seconds RetCode: 1 Status: ERROR PackageFile: None PackageFileSize: NA