Package: rTRM Version: 1.44.0 Command: /home/biocbuild/R/R/bin/R CMD INSTALL rTRM StartedAt: 2025-01-30 20:21:45 -0000 (Thu, 30 Jan 2025) EndedAt: 2025-01-30 20:22:06 -0000 (Thu, 30 Jan 2025) EllapsedTime: 20.5 seconds RetCode: 0 Status: OK