Package: rTRMui
Version: 1.44.0
Command: /Library/Frameworks/R.framework/Resources/bin/R CMD check --install=check:rTRMui.install-out.txt --library=/Library/Frameworks/R.framework/Resources/library --no-vignettes --timings rTRMui_1.44.0.tar.gz
StartedAt: 2024-11-09 12:06:56 -0500 (Sat, 09 Nov 2024)
EndedAt: 2024-11-09 12:12:16 -0500 (Sat, 09 Nov 2024)
EllapsedTime: 320.1 seconds
RetCode: 0
Status: OK
CheckDir: rTRMui.Rcheck
Warnings: 0