Package: rTRMui Version: 1.44.0 Command: rm -rf rTRMui.buildbin-libdir && mkdir rTRMui.buildbin-libdir && /Users/biocbuild/BBS/utils/build-universal.sh rTRMui_1.44.0.tar.gz /Library/Frameworks/R.framework/Resources/bin/R rTRMui.buildbin-libdir StartedAt: 2025-01-31 13:35:43 -0500 (Fri, 31 Jan 2025) EndedAt: 2025-01-31 13:37:31 -0500 (Fri, 31 Jan 2025) EllapsedTime: 107.6 seconds RetCode: 0 Status: OK PackageFile: rTRMui_1.44.0.tgz PackageFileSize: 834.8 KiB