Package: rTRMui
Version: 1.44.0
Command: rm -rf rTRMui.buildbin-libdir && mkdir rTRMui.buildbin-libdir && F:\biocbuild\bbs-3.20-bioc\R\bin\R.exe CMD INSTALL --build --library=rTRMui.buildbin-libdir rTRMui_1.44.0.tar.gz
StartedAt: 2025-02-18 09:00:38 -0500 (Tue, 18 Feb 2025)
EndedAt: 2025-02-18 09:01:30 -0500 (Tue, 18 Feb 2025)
EllapsedTime: 52.0 seconds
RetCode: 0
Status: OK
PackageFile: rTRMui_1.44.0.zip
PackageFileSize: 743 <A href="http://en.wikipedia.org/wiki/KiB" target="_blank">KiB</A>