Package: rWikiPathways Version: 1.26.0 Command: rm -rf rWikiPathways.buildbin-libdir && mkdir rWikiPathways.buildbin-libdir && /Users/biocbuild/BBS/utils/build-universal.sh rWikiPathways_1.26.0.tar.gz /Library/Frameworks/R.framework/Resources/bin/R rWikiPathways.buildbin-libdir StartedAt: 2025-01-31 13:35:58 -0500 (Fri, 31 Jan 2025) EndedAt: 2025-01-31 13:36:15 -0500 (Fri, 31 Jan 2025) EllapsedTime: 16.9 seconds RetCode: 0 Status: OK PackageFile: rWikiPathways_1.26.0.tgz PackageFileSize: 2.868 MiB