Package: rWikiPathways Version: 1.26.0 Command: chmod a+r rWikiPathways -R && F:\biocbuild\bbs-3.20-bioc\R\bin\R.exe CMD build --keep-empty-dirs --no-resave-data rWikiPathways StartedAt: 2025-02-03 21:50:38 -0500 (Mon, 03 Feb 2025) EndedAt: 2025-02-03 21:52:49 -0500 (Mon, 03 Feb 2025) EllapsedTime: 131.4 seconds RetCode: 0 Status: OK PackageFile: rWikiPathways_1.26.0.tar.gz PackageFileSize: 10.38 MiB