Package: rWikiPathways Version: 1.26.0 Command: /home/biocbuild/R/R/bin/R CMD check --install=check:rWikiPathways.install-out.txt --library=/home/biocbuild/R/R/site-library --no-vignettes --timings rWikiPathways_1.26.0.tar.gz StartedAt: 2025-02-04 10:40:46 -0000 (Tue, 04 Feb 2025) EndedAt: 2025-02-04 10:46:56 -0000 (Tue, 04 Feb 2025) EllapsedTime: 370.7 seconds RetCode: 0 Status: OK CheckDir: rWikiPathways.Rcheck Warnings: 0