Package: rWikiPathways Version: 1.26.0 Command: /home/biocbuild/R/R/bin/R CMD INSTALL rWikiPathways StartedAt: 2025-02-17 20:25:23 -0000 (Mon, 17 Feb 2025) EndedAt: 2025-02-17 20:25:48 -0000 (Mon, 17 Feb 2025) EllapsedTime: 25.2 seconds RetCode: 0 Status: OK