Package: raer Version: 1.4.0 Command: /Library/Frameworks/R.framework/Resources/bin/R CMD check --install=check:raer.install-out.txt --library=/Library/Frameworks/R.framework/Resources/library --no-vignettes --timings raer_1.4.0.tar.gz StartedAt: 2025-02-05 06:36:46 -0500 (Wed, 05 Feb 2025) EndedAt: 2025-02-05 06:44:33 -0500 (Wed, 05 Feb 2025) EllapsedTime: 467.7 seconds RetCode: 0 Status: OK CheckDir: raer.Rcheck Warnings: 0